BEGIN:VCALENDAR
VERSION:2.0
PRODID:-//Churches Together Truro - ECPv5.13.0//NONSGML v1.0//EN
CALSCALE:GREGORIAN
METHOD:PUBLISH
X-WR-CALNAME:Churches Together Truro
X-ORIGINAL-URL:https://churchestogethertruro.co.uk
X-WR-CALDESC:Events for Churches Together Truro
BEGIN:VTIMEZONE
TZID:Europe/London
BEGIN:DAYLIGHT
TZOFFSETFROM:+0000
TZOFFSETTO:+0100
TZNAME:BST
DTSTART:20230326T010000
END:DAYLIGHT
BEGIN:STANDARD
TZOFFSETFROM:+0100
TZOFFSETTO:+0000
TZNAME:GMT
DTSTART:20231029T010000
END:STANDARD
END:VTIMEZONE
BEGIN:VEVENT
DTSTART;TZID=Europe/London:20230116T193000
DTEND;TZID=Europe/London:20230116T213000
DTSTAMP:20260422T095145
CREATED:20220809T070132Z
LAST-MODIFIED:20220809T070132Z
UID:631-1673897400-1673904600@churchestogethertruro.co.uk
SUMMARY:Month of Prayer & Fasting Launch
DESCRIPTION:
URL:https://churchestogethertruro.co.uk/event/month-of-prayer-fasting-launch/
LOCATION:Moresk Centre\, TR1 1EF\, Kemp Close\, Truro\, Cornwall\, TR1 1EF\, United Kingdom
ORGANIZER;CN="Matt%20Noble":MAILTO:matt@citylifechurch.co.uk
END:VEVENT
END:VCALENDAR