BEGIN:VCALENDAR
VERSION:2.0
PRODID:-//Churches Together Truro - ECPv5.13.0//NONSGML v1.0//EN
CALSCALE:GREGORIAN
METHOD:PUBLISH
X-WR-CALNAME:Churches Together Truro
X-ORIGINAL-URL:https://churchestogethertruro.co.uk
X-WR-CALDESC:Events for Churches Together Truro
BEGIN:VTIMEZONE
TZID:Europe/London
BEGIN:DAYLIGHT
TZOFFSETFROM:+0000
TZOFFSETTO:+0100
TZNAME:BST
DTSTART:20220327T010000
END:DAYLIGHT
BEGIN:STANDARD
TZOFFSETFROM:+0100
TZOFFSETTO:+0000
TZNAME:GMT
DTSTART:20221030T010000
END:STANDARD
END:VTIMEZONE
BEGIN:VEVENT
DTSTART;TZID=Europe/London:20220309T120000
DTEND;TZID=Europe/London:20220309T130000
DTSTAMP:20260422T100409
CREATED:20220209T142410Z
LAST-MODIFIED:20220209T142627Z
UID:598-1646827200-1646830800@churchestogethertruro.co.uk
SUMMARY:Truro Ministers' Prayer
DESCRIPTION:
URL:https://churchestogethertruro.co.uk/event/cornwall-leaders-prayer/
LOCATION:Truro House of Prayer\, Truro Baptist Church\, Truro\, Cornwall\, TR1 3BD\, United Kingdom
ORGANIZER;CN="Matt%20Noble":MAILTO:matt@citylifechurch.co.uk
GEO:50.2637799;-5.0569353
X-APPLE-STRUCTURED-LOCATION;VALUE=URI;X-ADDRESS=Truro House of Prayer Truro Baptist Church Truro Cornwall TR1 3BD United Kingdom;X-APPLE-RADIUS=500;X-TITLE=Truro Baptist Church:geo:-5.0569353,50.2637799
END:VEVENT
END:VCALENDAR