BEGIN:VCALENDAR
VERSION:2.0
PRODID:-//Churches Together Truro - ECPv5.13.0//NONSGML v1.0//EN
CALSCALE:GREGORIAN
METHOD:PUBLISH
X-WR-CALNAME:Churches Together Truro
X-ORIGINAL-URL:https://churchestogethertruro.co.uk
X-WR-CALDESC:Events for Churches Together Truro
BEGIN:VTIMEZONE
TZID:Europe/London
BEGIN:DAYLIGHT
TZOFFSETFROM:+0000
TZOFFSETTO:+0100
TZNAME:BST
DTSTART:20220327T010000
END:DAYLIGHT
BEGIN:STANDARD
TZOFFSETFROM:+0100
TZOFFSETTO:+0000
TZNAME:GMT
DTSTART:20221030T010000
END:STANDARD
END:VTIMEZONE
BEGIN:VEVENT
DTSTART;TZID=Europe/London:20221020T130000
DTEND;TZID=Europe/London:20221020T143000
DTSTAMP:20260421T092943
CREATED:20220216T161201Z
LAST-MODIFIED:20220809T065033Z
UID:614-1666270800-1666276200@churchestogethertruro.co.uk
SUMMARY:Churches Together in Truro Quarterly Meeting
DESCRIPTION:
URL:https://churchestogethertruro.co.uk/event/churches-together-in-truro-executive-meeting-3/
LOCATION:Moresk Centre\, TR1 1EF\, Kemp Close\, Truro\, Cornwall\, TR1 1EF\, United Kingdom
END:VEVENT
END:VCALENDAR